BEGIN:VCALENDAR
VERSION:2.0
CALSCALE:GREGORIAN
PRODID:-//Diputació de Barcelona//DibaCMS//EN
BEGIN:VEVENT
UID:5905
DTSTAMP:20260424T051703
DTSTART:20170730T100000
DTEND:20170730T100000
SUMMARY:Exhibició del motor
LOCATION:
METHOD:PUBLISH
X-WR-CALNAME:ajuntament@santfost.cat
X-WR-TIMEZONE:Europe/Madrid
DESCRIPTION:
URI:https://www.santfost.cat/actualitat/agenda/exhibicio-del-motor.html
CLASS:PUBLIC
END:VEVENT
END:VCALENDAR
