BEGIN:VCALENDAR
VERSION:2.0
CALSCALE:GREGORIAN
PRODID:-//Diputació de Barcelona//DibaCMS//EN
BEGIN:VEVENT
UID:5911
DTSTAMP:20260424T150403
DTSTART:20170730T223000
DTEND:20170730T223000
SUMMARY:Final de la Festa Major
LOCATION:
METHOD:PUBLISH
X-WR-CALNAME:ajuntament@santfost.cat
X-WR-TIMEZONE:Europe/Madrid
DESCRIPTION:
URI:https://www.santfost.cat/actualitat/agenda/final-de-la-festa-major.html
CLASS:PUBLIC
END:VEVENT
END:VCALENDAR
