BEGIN:VCALENDAR
VERSION:2.0
CALSCALE:GREGORIAN
PRODID:-//Diputació de Barcelona//DibaCMS//EN
BEGIN:VEVENT
UID:5913
DTSTAMP:20260424T103510
DTSTART:20170731T103000
DTEND:20170731T103000
SUMMARY:Tobogán d'aigua
LOCATION:
METHOD:PUBLISH
X-WR-CALNAME:ajuntament@santfost.cat
X-WR-TIMEZONE:Europe/Madrid
DESCRIPTION:
URI:https://www.santfost.cat/actualitat/agenda/tobogan-daigua.html
CLASS:PUBLIC
END:VEVENT
END:VCALENDAR
