BEGIN:VCALENDAR
VERSION:2.0
CALSCALE:GREGORIAN
PRODID:-//Diputació de Barcelona//DibaCMS//EN
BEGIN:VEVENT
UID:5917
DTSTAMP:20260424T094223
DTSTART:20170731T193000
DTEND:20170731T193000
SUMMARY:Holy Party. Festa de colors i mascletà final
LOCATION:
METHOD:PUBLISH
X-WR-CALNAME:ajuntament@santfost.cat
X-WR-TIMEZONE:Europe/Madrid
DESCRIPTION:
URI:https://www.santfost.cat/actualitat/agenda/holy-party-festa-de-colors-i-mascleta-final.html
CLASS:PUBLIC
END:VEVENT
END:VCALENDAR
