BEGIN:VCALENDAR
VERSION:2.0
CALSCALE:GREGORIAN
PRODID:-//Diputació de Barcelona//DibaCMS//EN
BEGIN:VEVENT
UID:5919
DTSTAMP:20260424T110110
DTSTART:20170907T190000
DTEND:20170907T190000
SUMMARY:Club de Lectura -Homer i Langley d'E.L. Doctorow
LOCATION:
METHOD:PUBLISH
X-WR-CALNAME:ajuntament@santfost.cat
X-WR-TIMEZONE:Europe/Madrid
DESCRIPTION:
URI:https://www.santfost.cat/actualitat/agenda/club-de-lectura-homer-i-langley-del-doctorow.html
CLASS:PUBLIC
END:VEVENT
END:VCALENDAR
