BEGIN:VCALENDAR
VERSION:2.0
CALSCALE:GREGORIAN
PRODID:-//Diputació de Barcelona//DibaCMS//EN
BEGIN:VEVENT
UID:5921
DTSTAMP:20260424T091828
DTSTART:20170914T000000
DTEND:20170914T000000
SUMMARY:Curs de manipulació d'aliments
LOCATION:
METHOD:PUBLISH
X-WR-CALNAME:ajuntament@santfost.cat
X-WR-TIMEZONE:Europe/Madrid
DESCRIPTION:
URI:https://www.santfost.cat/actualitat/agenda/curs-de-manipulacio-daliments.html
CLASS:PUBLIC
END:VEVENT
END:VCALENDAR
