BEGIN:VCALENDAR
VERSION:2.0
CALSCALE:GREGORIAN
PRODID:-//Diputació de Barcelona//DibaCMS//EN
BEGIN:VEVENT
UID:5924
DTSTAMP:20260424T150334
DTSTART:20170919T173000
DTEND:20170919T173000
SUMMARY:Contes en anglès
LOCATION:
METHOD:PUBLISH
X-WR-CALNAME:ajuntament@santfost.cat
X-WR-TIMEZONE:Europe/Madrid
DESCRIPTION:
URI:https://www.santfost.cat/actualitat/agenda/5924-contes-en-angles.html
CLASS:PUBLIC
END:VEVENT
END:VCALENDAR
