BEGIN:VCALENDAR
VERSION:2.0
CALSCALE:GREGORIAN
PRODID:-//Diputació de Barcelona//DibaCMS//EN
BEGIN:VEVENT
UID:5928
DTSTAMP:20260423T200910
DTSTART:20170929T180000
DTEND:20170929T180000
SUMMARY:Festes del Patró
Torneig de Petanca
LOCATION:
METHOD:PUBLISH
X-WR-CALNAME:ajuntament@santfost.cat
X-WR-TIMEZONE:Europe/Madrid
DESCRIPTION:
URI:https://www.santfost.cat/actualitat/agenda/festes-del-patrotorneig-de-petanca.html
CLASS:PUBLIC
END:VEVENT
END:VCALENDAR
