BEGIN:VCALENDAR
VERSION:2.0
CALSCALE:GREGORIAN
PRODID:-//Diputació de Barcelona//DibaCMS//EN
BEGIN:VEVENT
UID:5929
DTSTAMP:20260423T215550
DTSTART:20170930T120000
DTEND:20170930T120000
SUMMARY:Festes del Patró
Cobla Contemporània
LOCATION:
METHOD:PUBLISH
X-WR-CALNAME:ajuntament@santfost.cat
X-WR-TIMEZONE:Europe/Madrid
DESCRIPTION:
URI:https://www.santfost.cat/actualitat/agenda/festes-del-patrocobla-contemporania.html
CLASS:PUBLIC
END:VEVENT
END:VCALENDAR
