BEGIN:VCALENDAR
VERSION:2.0
CALSCALE:GREGORIAN
PRODID:-//Diputació de Barcelona//DibaCMS//EN
BEGIN:VEVENT
UID:5932
DTSTAMP:20260423T215608
DTSTART:20170930T193000
DTEND:20170930T193000
SUMMARY:Festes del Patró
Havaneres i rom cremat
LOCATION:
METHOD:PUBLISH
X-WR-CALNAME:ajuntament@santfost.cat
X-WR-TIMEZONE:Europe/Madrid
DESCRIPTION:
URI:https://www.santfost.cat/actualitat/agenda/festes-del-patrohavaneres-i-rom-cremat.html
CLASS:PUBLIC
END:VEVENT
END:VCALENDAR
