BEGIN:VCALENDAR
VERSION:2.0
CALSCALE:GREGORIAN
PRODID:-//Diputació de Barcelona//DibaCMS//EN
BEGIN:VEVENT
UID:5933
DTSTAMP:20260423T215300
DTSTART:20170930T110000
DTEND:20170930T110000
SUMMARY:Contes per a nadons
El Somni de Matías
LOCATION:
METHOD:PUBLISH
X-WR-CALNAME:ajuntament@santfost.cat
X-WR-TIMEZONE:Europe/Madrid
DESCRIPTION:
URI:https://www.santfost.cat/actualitat/agenda/contes-per-a-nadonsel-somni-de-matias.html
CLASS:PUBLIC
END:VEVENT
END:VCALENDAR
