BEGIN:VCALENDAR
VERSION:2.0
CALSCALE:GREGORIAN
PRODID:-//Diputació de Barcelona//DibaCMS//EN
BEGIN:VEVENT
UID:5934
DTSTAMP:20260423T225026
DTSTART:20171001T000000
DTEND:20171001T000000
SUMMARY:Final intercomarcal Federació de Patinatge
LOCATION:
METHOD:PUBLISH
X-WR-CALNAME:ajuntament@santfost.cat
X-WR-TIMEZONE:Europe/Madrid
DESCRIPTION:
URI:https://www.santfost.cat/actualitat/agenda/final-intercomarcal-federacio-de-patinatge.html
CLASS:PUBLIC
END:VEVENT
END:VCALENDAR
