BEGIN:VCALENDAR
VERSION:2.0
CALSCALE:GREGORIAN
PRODID:-//Diputació de Barcelona//DibaCMS//EN
BEGIN:VEVENT
UID:5935
DTSTAMP:20260423T194733
DTSTART:20171005T190000
DTEND:20171005T190000
SUMMARY:Club de lectura 
La pregària de Txernòbil, de Svetlana
LOCATION:
METHOD:PUBLISH
X-WR-CALNAME:ajuntament@santfost.cat
X-WR-TIMEZONE:Europe/Madrid
DESCRIPTION:
URI:https://www.santfost.cat/actualitat/agenda/club-de-lectura-la-pregaria-de-txernobil-de-svetlana.html
CLASS:PUBLIC
END:VEVENT
END:VCALENDAR
