BEGIN:VCALENDAR
VERSION:2.0
CALSCALE:GREGORIAN
PRODID:-//Diputació de Barcelona//DibaCMS//EN
BEGIN:VEVENT
UID:5936
DTSTAMP:20260423T165004
DTSTART:20171017T173000
DTEND:20171017T173000
SUMMARY:Contes en anglès "Brown Bear, Brown Bear"
LOCATION:
METHOD:PUBLISH
X-WR-CALNAME:ajuntament@santfost.cat
X-WR-TIMEZONE:Europe/Madrid
DESCRIPTION:
URI:https://www.santfost.cat/actualitat/agenda/5936-contes-en-angles-brown-bear-brown-bear.html
CLASS:PUBLIC
END:VEVENT
END:VCALENDAR
