BEGIN:VCALENDAR
VERSION:2.0
CALSCALE:GREGORIAN
PRODID:-//Diputació de Barcelona//DibaCMS//EN
BEGIN:VEVENT
UID:5937
DTSTAMP:20260423T215122
DTSTART:20171019T000000
DTEND:20171019T000000
SUMMARY:Exposició "Treu-li suc a la sexualitat"
LOCATION:
METHOD:PUBLISH
X-WR-CALNAME:ajuntament@santfost.cat
X-WR-TIMEZONE:Europe/Madrid
DESCRIPTION:
URI:https://www.santfost.cat/actualitat/agenda/5937-exposicio-treu-li-suc-a-la-sexualitat.html
CLASS:PUBLIC
END:VEVENT
END:VCALENDAR
