BEGIN:VCALENDAR
VERSION:2.0
CALSCALE:GREGORIAN
PRODID:-//Diputació de Barcelona//DibaCMS//EN
BEGIN:VEVENT
UID:5942
DTSTAMP:20260424T051959
DTSTART:20171029T104500
DTEND:20171029T104500
SUMMARY:Dia de la Roda 
LOCATION:
METHOD:PUBLISH
X-WR-CALNAME:ajuntament@santfost.cat
X-WR-TIMEZONE:Europe/Madrid
DESCRIPTION:
URI:https://www.santfost.cat/actualitat/agenda/dia-de-la-roda-.html
CLASS:PUBLIC
END:VEVENT
END:VCALENDAR
