BEGIN:VCALENDAR
VERSION:2.0
CALSCALE:GREGORIAN
PRODID:-//Diputació de Barcelona//DibaCMS//EN
BEGIN:VEVENT
UID:5943
DTSTAMP:20260423T215911
DTSTART:20171102T190000
DTEND:20171102T190000
SUMMARY:Club de lectura Jambalaia, d'Albert Forns
LOCATION:
METHOD:PUBLISH
X-WR-CALNAME:ajuntament@santfost.cat
X-WR-TIMEZONE:Europe/Madrid
DESCRIPTION:
URI:https://www.santfost.cat/actualitat/agenda/club-de-lectura-jambalaia-dalbert-forns.html
CLASS:PUBLIC
END:VEVENT
END:VCALENDAR
