BEGIN:VCALENDAR
VERSION:2.0
CALSCALE:GREGORIAN
PRODID:-//Diputació de Barcelona//DibaCMS//EN
BEGIN:VEVENT
UID:5944
DTSTAMP:20260423T212929
DTSTART:20171102T220000
DTEND:20171102T220000
SUMMARY:Teatre " Diario de un Cuarenton"
LOCATION:
METHOD:PUBLISH
X-WR-CALNAME:ajuntament@santfost.cat
X-WR-TIMEZONE:Europe/Madrid
DESCRIPTION:
URI:https://www.santfost.cat/actualitat/agenda/teatre--diario-de-un-cuarenton.html
CLASS:PUBLIC
END:VEVENT
END:VCALENDAR
