BEGIN:VCALENDAR
VERSION:2.0
CALSCALE:GREGORIAN
PRODID:-//Diputació de Barcelona//DibaCMS//EN
BEGIN:VEVENT
UID:5949
DTSTAMP:20260423T152620
DTSTART:20171114T173000
DTEND:20171114T173000
SUMMARY:Contes en Anglès "Fox Socks"
LOCATION:
METHOD:PUBLISH
X-WR-CALNAME:ajuntament@santfost.cat
X-WR-TIMEZONE:Europe/Madrid
DESCRIPTION:
URI:https://www.santfost.cat/actualitat/agenda/contes-en-angles-fox-socks.html
CLASS:PUBLIC
END:VEVENT
END:VCALENDAR
