BEGIN:VCALENDAR
VERSION:2.0
CALSCALE:GREGORIAN
PRODID:-//Diputació de Barcelona//DibaCMS//EN
BEGIN:VEVENT
UID:5951
DTSTAMP:20260423T201218
DTSTART:20171117T203000
DTEND:20171117T203000
SUMMARY:Masterclass de Pintura "Introducció a l'Aquarel.la"
LOCATION:
METHOD:PUBLISH
X-WR-CALNAME:ajuntament@santfost.cat
X-WR-TIMEZONE:Europe/Madrid
DESCRIPTION:
URI:https://www.santfost.cat/actualitat/agenda/masterclass-de-pintura-introduccio-a-laquarella.html
CLASS:PUBLIC
END:VEVENT
END:VCALENDAR
