BEGIN:VCALENDAR
VERSION:2.0
CALSCALE:GREGORIAN
PRODID:-//Diputació de Barcelona//DibaCMS//EN
BEGIN:VEVENT
UID:5952
DTSTAMP:20260423T233045
DTSTART:20171118T173000
DTEND:20171118T173000
SUMMARY:Xocolatada i jocs per la mainada
LOCATION:
METHOD:PUBLISH
X-WR-CALNAME:ajuntament@santfost.cat
X-WR-TIMEZONE:Europe/Madrid
DESCRIPTION:
URI:https://www.santfost.cat/actualitat/agenda/xocolatada-i-jocs-per-la-mainada.html
CLASS:PUBLIC
END:VEVENT
END:VCALENDAR
