BEGIN:VCALENDAR
VERSION:2.0
CALSCALE:GREGORIAN
PRODID:-//Diputació de Barcelona//DibaCMS//EN
BEGIN:VEVENT
UID:5953
DTSTAMP:20260423T182833
DTSTART:20171120T110000
DTEND:20171120T110000
SUMMARY:Xerrada per adults "Drets i deures en relació amb la salut i l'atenció sanitària"
LOCATION:
METHOD:PUBLISH
X-WR-CALNAME:ajuntament@santfost.cat
X-WR-TIMEZONE:Europe/Madrid
DESCRIPTION:
URI:https://www.santfost.cat/actualitat/agenda/xerrada-per-adults-drets-i-deures-en-relacio-amb-la-salut-i-latencio-sanitaria.html
CLASS:PUBLIC
END:VEVENT
END:VCALENDAR
