BEGIN:VCALENDAR
VERSION:2.0
CALSCALE:GREGORIAN
PRODID:-//Diputació de Barcelona//DibaCMS//EN
BEGIN:VEVENT
UID:5956
DTSTAMP:20260423T152545
DTSTART:20171126T180000
DTEND:20171126T180000
SUMMARY:Cinema per a adults
"Casablanca"
LOCATION:
METHOD:PUBLISH
X-WR-CALNAME:ajuntament@santfost.cat
X-WR-TIMEZONE:Europe/Madrid
DESCRIPTION:
URI:https://www.santfost.cat/actualitat/agenda/cinema-per-a-adultscasablanca.html
CLASS:PUBLIC
END:VEVENT
END:VCALENDAR
