BEGIN:VCALENDAR
VERSION:2.0
CALSCALE:GREGORIAN
PRODID:-//Diputació de Barcelona//DibaCMS//EN
BEGIN:VEVENT
UID:5957
DTSTAMP:20260424T053549
DTSTART:20171128T183000
DTEND:20171128T183000
SUMMARY:Inauguració de l'exposició: "quatre que pinten"
LOCATION:
METHOD:PUBLISH
X-WR-CALNAME:ajuntament@santfost.cat
X-WR-TIMEZONE:Europe/Madrid
DESCRIPTION:
URI:https://www.santfost.cat/actualitat/agenda/inauguracio-de-lexposicio-quatre-que-pinten.html
CLASS:PUBLIC
END:VEVENT
END:VCALENDAR
