BEGIN:VCALENDAR
VERSION:2.0
CALSCALE:GREGORIAN
PRODID:-//Diputació de Barcelona//DibaCMS//EN
BEGIN:VEVENT
UID:5958
DTSTAMP:20260423T195058
DTSTART:20171130T190000
DTEND:20171130T190000
SUMMARY:Library Talks (converses en anglès)
"Marie Curie and the advance of medical Science"
LOCATION:
METHOD:PUBLISH
X-WR-CALNAME:ajuntament@santfost.cat
X-WR-TIMEZONE:Europe/Madrid
DESCRIPTION:
URI:https://www.santfost.cat/actualitat/agenda/library-talks-converses-en-anglesmarie-curie-and-the-advance-of-medical-science.html
CLASS:PUBLIC
END:VEVENT
END:VCALENDAR
