BEGIN:VCALENDAR
VERSION:2.0
CALSCALE:GREGORIAN
PRODID:-//Diputació de Barcelona//DibaCMS//EN
BEGIN:VEVENT
UID:5960
DTSTAMP:20260424T042214
DTSTART:20171203T133000
DTEND:20171203T133000
SUMMARY:Partit de lliga solidari La Cúpula. INSTITTUT ICÀRIA- CET10
LOCATION:
METHOD:PUBLISH
X-WR-CALNAME:ajuntament@santfost.cat
X-WR-TIMEZONE:Europe/Madrid
DESCRIPTION:
URI:https://www.santfost.cat/actualitat/agenda/partit-de-lliga-solidari-la-cupula-instittut-icaria-cet10.html
CLASS:PUBLIC
END:VEVENT
END:VCALENDAR
