BEGIN:VCALENDAR
VERSION:2.0
CALSCALE:GREGORIAN
PRODID:-//Diputació de Barcelona//DibaCMS//EN
BEGIN:VEVENT
UID:5965
DTSTAMP:20260423T194621
DTSTART:20171214T190000
DTEND:20171214T190000
SUMMARY:Inauguració exposició de fotografia "Pintant la foscor" a càrrec de Juan José Carrasco
LOCATION:
METHOD:PUBLISH
X-WR-CALNAME:ajuntament@santfost.cat
X-WR-TIMEZONE:Europe/Madrid
DESCRIPTION:
URI:https://www.santfost.cat/actualitat/agenda/inauguracio-exposicio-de-fotografia-pintant-la-foscor-a-carrec-de-juan-jose-carrasco.html
CLASS:PUBLIC
END:VEVENT
END:VCALENDAR
