BEGIN:VCALENDAR
VERSION:2.0
CALSCALE:GREGORIAN
PRODID:-//Diputació de Barcelona//DibaCMS//EN
BEGIN:VEVENT
UID:5972
DTSTAMP:20260423T164013
DTSTART:20171217T000000
DTEND:20171217T000000
SUMMARY:Associació Voluntariat Social per Sant Fost
LOCATION:
METHOD:PUBLISH
X-WR-CALNAME:ajuntament@santfost.cat
X-WR-TIMEZONE:Europe/Madrid
DESCRIPTION:
URI:https://www.santfost.cat/actualitat/agenda/5972-associacio-voluntariat-social-per-sant-fost.html
CLASS:PUBLIC
END:VEVENT
END:VCALENDAR
