BEGIN:VCALENDAR
VERSION:2.0
CALSCALE:GREGORIAN
PRODID:-//Diputació de Barcelona//DibaCMS//EN
BEGIN:VEVENT
UID:5979
DTSTAMP:20260423T233455
DTSTART:20171225T180000
DTEND:20171225T180000
SUMMARY:Representació 51è Pessebre Vivent
LOCATION:
METHOD:PUBLISH
X-WR-CALNAME:ajuntament@santfost.cat
X-WR-TIMEZONE:Europe/Madrid
DESCRIPTION:
URI:https://www.santfost.cat/actualitat/agenda/5979-representacio-51e-pessebre-vivent.html
CLASS:PUBLIC
END:VEVENT
END:VCALENDAR
