BEGIN:VCALENDAR
VERSION:2.0
CALSCALE:GREGORIAN
PRODID:-//Diputació de Barcelona//DibaCMS//EN
BEGIN:VEVENT
UID:5994
DTSTAMP:20260423T183112
DTSTART:20180125T190000
DTEND:20180125T190000
SUMMARY:Library Talks(converses en anglès) Eva Peron and the power of populism
LOCATION:
METHOD:PUBLISH
X-WR-CALNAME:ajuntament@santfost.cat
X-WR-TIMEZONE:Europe/Madrid
DESCRIPTION:
URI:https://www.santfost.cat/actualitat/agenda/library-talksconverses-en-angles-eva-peron-and-the-power-of-populism.html
CLASS:PUBLIC
END:VEVENT
END:VCALENDAR
