BEGIN:VCALENDAR
VERSION:2.0
CALSCALE:GREGORIAN
PRODID:-//Diputació de Barcelona//DibaCMS//EN
BEGIN:VEVENT
UID:5996
DTSTAMP:20260423T195253
DTSTART:20180126T170000
DTEND:20180126T170000
SUMMARY:l'Essència de Sant Fost
LOCATION:
METHOD:PUBLISH
X-WR-CALNAME:ajuntament@santfost.cat
X-WR-TIMEZONE:Europe/Madrid
DESCRIPTION:
URI:https://www.santfost.cat/actualitat/agenda/5996-lessencia-de-sant-fost.html
CLASS:PUBLIC
END:VEVENT
END:VCALENDAR
