BEGIN:VCALENDAR
VERSION:2.0
CALSCALE:GREGORIAN
PRODID:-//Diputació de Barcelona//DibaCMS//EN
BEGIN:VEVENT
UID:5997
DTSTAMP:20260423T194549
DTSTART:20180127T110000
DTEND:20180127T110000
SUMMARY:Procés participatiu Av. Aragó
LOCATION:
METHOD:PUBLISH
X-WR-CALNAME:ajuntament@santfost.cat
X-WR-TIMEZONE:Europe/Madrid
DESCRIPTION:
URI:https://www.santfost.cat/actualitat/agenda/5997-proces-participatiu-av-arago.html
CLASS:PUBLIC
END:VEVENT
END:VCALENDAR
