BEGIN:VCALENDAR
VERSION:2.0
CALSCALE:GREGORIAN
PRODID:-//Diputació de Barcelona//DibaCMS//EN
BEGIN:VEVENT
UID:5998
DTSTAMP:20260423T133815
DTSTART:20180127T110000
DTEND:20180127T110000
SUMMARY:Contes per a nadons "Bestioles i Bestioletes"
LOCATION:
METHOD:PUBLISH
X-WR-CALNAME:ajuntament@santfost.cat
X-WR-TIMEZONE:Europe/Madrid
DESCRIPTION:
URI:https://www.santfost.cat/actualitat/agenda/contes-per-a-nadons-bestioles-i-bestioletes.html
CLASS:PUBLIC
END:VEVENT
END:VCALENDAR
