BEGIN:VCALENDAR
VERSION:2.0
CALSCALE:GREGORIAN
PRODID:-//Diputació de Barcelona//DibaCMS//EN
BEGIN:VEVENT
UID:5999
DTSTAMP:20260424T002152
DTSTART:20180127T180000
DTEND:20180127T180000
SUMMARY:Ball dels jubilats
LOCATION:
METHOD:PUBLISH
X-WR-CALNAME:ajuntament@santfost.cat
X-WR-TIMEZONE:Europe/Madrid
DESCRIPTION:
URI:https://www.santfost.cat/actualitat/agenda/5999-ball-dels-jubilats.html
CLASS:PUBLIC
END:VEVENT
END:VCALENDAR
