BEGIN:VCALENDAR
VERSION:2.0
CALSCALE:GREGORIAN
PRODID:-//Diputació de Barcelona//DibaCMS//EN
BEGIN:VEVENT
UID:6004
DTSTAMP:20260423T212124
DTSTART:20180210T110000
DTEND:20180210T110000
SUMMARY:Hora del conte
LOCATION:
METHOD:PUBLISH
X-WR-CALNAME:ajuntament@santfost.cat
X-WR-TIMEZONE:Europe/Madrid
DESCRIPTION:
URI:https://www.santfost.cat/actualitat/agenda/6004-hora-del-conte.html
CLASS:PUBLIC
END:VEVENT
END:VCALENDAR
