BEGIN:VCALENDAR
VERSION:2.0
CALSCALE:GREGORIAN
PRODID:-//Diputació de Barcelona//DibaCMS//EN
BEGIN:VEVENT
UID:6005
DTSTAMP:20260424T051303
DTSTART:20180210T210000
DTEND:20180210T210000
SUMMARY:Sopar i Festa de Carnestoltes
LOCATION:
METHOD:PUBLISH
X-WR-CALNAME:ajuntament@santfost.cat
X-WR-TIMEZONE:Europe/Madrid
DESCRIPTION:
URI:https://www.santfost.cat/actualitat/agenda/sopar-i-festa-de-carnestoltes.html
CLASS:PUBLIC
END:VEVENT
END:VCALENDAR
