BEGIN:VCALENDAR
VERSION:2.0
CALSCALE:GREGORIAN
PRODID:-//Diputació de Barcelona//DibaCMS//EN
BEGIN:VEVENT
UID:6007
DTSTAMP:20260423T110536
DTSTART:20180216T163000
DTEND:20180216T163000
SUMMARY:Taller de família "Experimentem en familia"
LOCATION:
METHOD:PUBLISH
X-WR-CALNAME:ajuntament@santfost.cat
X-WR-TIMEZONE:Europe/Madrid
DESCRIPTION:
URI:https://www.santfost.cat/actualitat/agenda/taller-de-familia-experimentem-en-familia.html
CLASS:PUBLIC
END:VEVENT
END:VCALENDAR
