BEGIN:VCALENDAR
VERSION:2.0
CALSCALE:GREGORIAN
PRODID:-//Diputació de Barcelona//DibaCMS//EN
BEGIN:VEVENT
UID:6008
DTSTAMP:20260424T034800
DTSTART:20180220T173000
DTEND:20180220T173000
SUMMARY:Contes en anglès "The Gigantic Trunip"
LOCATION:
METHOD:PUBLISH
X-WR-CALNAME:ajuntament@santfost.cat
X-WR-TIMEZONE:Europe/Madrid
DESCRIPTION:
URI:https://www.santfost.cat/actualitat/agenda/contes-en-angles-the-gigantic-trunip.html
CLASS:PUBLIC
END:VEVENT
END:VCALENDAR
