BEGIN:VCALENDAR
VERSION:2.0
CALSCALE:GREGORIAN
PRODID:-//Diputació de Barcelona//DibaCMS//EN
BEGIN:VEVENT
UID:6009
DTSTAMP:20260423T122547
DTSTART:20180220T190000
DTEND:20180220T190000
SUMMARY:Inauguració Exposició de pintura "olis i guixos de Toni & Martí
LOCATION:
METHOD:PUBLISH
X-WR-CALNAME:ajuntament@santfost.cat
X-WR-TIMEZONE:Europe/Madrid
DESCRIPTION:
URI:https://www.santfost.cat/actualitat/agenda/inauguracio-exposicio-de-pintura-olis-i-guixos-de-toni-and-marti.html
CLASS:PUBLIC
END:VEVENT
END:VCALENDAR
