BEGIN:VCALENDAR
VERSION:2.0
CALSCALE:GREGORIAN
PRODID:-//Diputació de Barcelona//DibaCMS//EN
BEGIN:VEVENT
UID:6013
DTSTAMP:20260423T181759
DTSTART:20180302T163000
DTEND:20180302T163000
SUMMARY:Taller de família "Experimentem en familia"
LOCATION:
METHOD:PUBLISH
X-WR-CALNAME:ajuntament@santfost.cat
X-WR-TIMEZONE:Europe/Madrid
DESCRIPTION:
URI:https://www.santfost.cat/actualitat/agenda/6013-taller-de-familia-experimentem-en-familia.html
CLASS:PUBLIC
END:VEVENT
END:VCALENDAR
