BEGIN:VCALENDAR
VERSION:2.0
CALSCALE:GREGORIAN
PRODID:-//Diputació de Barcelona//DibaCMS//EN
BEGIN:VEVENT
UID:6016
DTSTAMP:20260424T051150
DTSTART:20180305T000000
DTEND:20180305T000000
SUMMARY:Jornada Portes Obertes Centres Escolars - Institut Alba del Vallès
LOCATION:
METHOD:PUBLISH
X-WR-CALNAME:ajuntament@santfost.cat
X-WR-TIMEZONE:Europe/Madrid
DESCRIPTION:
URI:https://www.santfost.cat/actualitat/agenda/jornada-portes-obertes-centres-escolars-institut-alba-del-valles.html
CLASS:PUBLIC
END:VEVENT
END:VCALENDAR
