BEGIN:VCALENDAR
VERSION:2.0
CALSCALE:GREGORIAN
PRODID:-//Diputació de Barcelona//DibaCMS//EN
BEGIN:VEVENT
UID:6018
DTSTAMP:20260423T135516
DTSTART:20180309T170000
DTEND:20180309T170000
SUMMARY:Música per a nadons
LOCATION:
METHOD:PUBLISH
X-WR-CALNAME:ajuntament@santfost.cat
X-WR-TIMEZONE:Europe/Madrid
DESCRIPTION:
URI:https://www.santfost.cat/actualitat/agenda/6018-musica-per-a-nadons.html
CLASS:PUBLIC
END:VEVENT
END:VCALENDAR
