BEGIN:VCALENDAR
VERSION:2.0
CALSCALE:GREGORIAN
PRODID:-//Diputació de Barcelona//DibaCMS//EN
BEGIN:VEVENT
UID:6019
DTSTAMP:20260424T040411
DTSTART:20180309T000000
DTEND:20180309T000000
SUMMARY:Taller per a pares d'adolescents "I què faig jo ara?"
LOCATION:
METHOD:PUBLISH
X-WR-CALNAME:ajuntament@santfost.cat
X-WR-TIMEZONE:Europe/Madrid
DESCRIPTION:
URI:https://www.santfost.cat/actualitat/agenda/taller-per-a-pares-dadolescents-i-que-faig-jo-ara.html
CLASS:PUBLIC
END:VEVENT
END:VCALENDAR
