BEGIN:VCALENDAR
VERSION:2.0
CALSCALE:GREGORIAN
PRODID:-//Diputació de Barcelona//DibaCMS//EN
BEGIN:VEVENT
UID:6020
DTSTAMP:20260423T213158
DTSTART:20180310T210000
DTEND:20180310T210000
SUMMARY:Dia Internacional de la Dona  - Sopar Dia de la Dona 
LOCATION:
METHOD:PUBLISH
X-WR-CALNAME:ajuntament@santfost.cat
X-WR-TIMEZONE:Europe/Madrid
DESCRIPTION:
URI:https://www.santfost.cat/actualitat/agenda/dia-internacional-de-la-dona-sopar-dia-de-la-dona-.html
CLASS:PUBLIC
END:VEVENT
END:VCALENDAR
