BEGIN:VCALENDAR
VERSION:2.0
CALSCALE:GREGORIAN
PRODID:-//Diputació de Barcelona//DibaCMS//EN
BEGIN:VEVENT
UID:6023
DTSTAMP:20260424T051612
DTSTART:20180314T151500
DTEND:20180314T151500
SUMMARY:Jornada Portes Obertes Centres Escolars - Escola Joaquim Abril
LOCATION:
METHOD:PUBLISH
X-WR-CALNAME:ajuntament@santfost.cat
X-WR-TIMEZONE:Europe/Madrid
DESCRIPTION:
URI:https://www.santfost.cat/actualitat/agenda/jornada-portes-obertes-centres-escolars-escola-joaquim-abril.html
CLASS:PUBLIC
END:VEVENT
END:VCALENDAR
