BEGIN:VCALENDAR
VERSION:2.0
CALSCALE:GREGORIAN
PRODID:-//Diputació de Barcelona//DibaCMS//EN
BEGIN:VEVENT
UID:6024
DTSTAMP:20260423T181949
DTSTART:20180314T000000
DTEND:20180314T000000
SUMMARY:Taller  d'escriptura de microrelats 
LOCATION:
METHOD:PUBLISH
X-WR-CALNAME:ajuntament@santfost.cat
X-WR-TIMEZONE:Europe/Madrid
DESCRIPTION:
URI:https://www.santfost.cat/actualitat/agenda/taller-descriptura-de-microrelats-.html
CLASS:PUBLIC
END:VEVENT
END:VCALENDAR
