BEGIN:VCALENDAR
VERSION:2.0
CALSCALE:GREGORIAN
PRODID:-//Diputació de Barcelona//DibaCMS//EN
BEGIN:VEVENT
UID:6025
DTSTAMP:20260424T053844
DTSTART:20180315T151500
DTEND:20180315T151500
SUMMARY:Jornada de Portes Obertes - Escola El Roure
LOCATION:
METHOD:PUBLISH
X-WR-CALNAME:ajuntament@santfost.cat
X-WR-TIMEZONE:Europe/Madrid
DESCRIPTION:
URI:https://www.santfost.cat/actualitat/agenda/jornada-de-portes-obertes-escola-el-roure.html
CLASS:PUBLIC
END:VEVENT
END:VCALENDAR
