BEGIN:VCALENDAR
VERSION:2.0
CALSCALE:GREGORIAN
PRODID:-//Diputació de Barcelona//DibaCMS//EN
BEGIN:VEVENT
UID:6026
DTSTAMP:20260423T093508
DTSTART:20180317T110000
DTEND:20180317T110000
SUMMARY:Taller de pintura amb vi
LOCATION:
METHOD:PUBLISH
X-WR-CALNAME:ajuntament@santfost.cat
X-WR-TIMEZONE:Europe/Madrid
DESCRIPTION:
URI:https://www.santfost.cat/actualitat/agenda/taller-de-pintura-amb-vi.html
CLASS:PUBLIC
END:VEVENT
END:VCALENDAR
