BEGIN:VCALENDAR
VERSION:2.0
CALSCALE:GREGORIAN
PRODID:-//Diputació de Barcelona//DibaCMS//EN
BEGIN:VEVENT
UID:6027
DTSTAMP:20260423T005659
DTSTART:20180317T160000
DTEND:20180317T160000
SUMMARY:Audició
LOCATION:
METHOD:PUBLISH
X-WR-CALNAME:ajuntament@santfost.cat
X-WR-TIMEZONE:Europe/Madrid
DESCRIPTION:
URI:https://www.santfost.cat/actualitat/agenda/6027-audicio.html
CLASS:PUBLIC
END:VEVENT
END:VCALENDAR
