BEGIN:VCALENDAR
VERSION:2.0
CALSCALE:GREGORIAN
PRODID:-//Diputació de Barcelona//DibaCMS//EN
BEGIN:VEVENT
UID:6028
DTSTAMP:20260423T065105
DTSTART:20180319T000000
DTEND:20180319T000000
SUMMARY:Taller d'escriptura de microrelats
LOCATION:
METHOD:PUBLISH
X-WR-CALNAME:ajuntament@santfost.cat
X-WR-TIMEZONE:Europe/Madrid
DESCRIPTION:
URI:https://www.santfost.cat/actualitat/agenda/6028-taller-descriptura-de-microrelats.html
CLASS:PUBLIC
END:VEVENT
END:VCALENDAR
